BEGIN:VCALENDAR
VERSION:2.0
PRODID:-//ChurchDev//Events//EN
CALSCALE:GREGORIAN
METHOD:PUBLISH
BEGIN:VEVENT
UID:3079-20261107@www.rockyriverassociation.org
SUMMARY:ACCCE Fall Session
DTSTART:20261107T143000Z
DTEND:20261107T153000Z
DESCRIPTION:The Anderson County Congress of Christian Education  Fall Session will be held on Saturday\, November 7\, 2026\, at 9:30 a.m.  More information will be forthcoming!\\n\\nhttps://www.rockyriverassociation.org/events/accce-fall-session/
LOCATION:Post Office Box 1454\, Anderson\, SC 29622
URL:https://www.rockyriverassociation.org/events/accce-fall-session/
DTSTAMP:20260419T231330Z
END:VEVENT
END:VCALENDAR
