BEGIN:VCALENDAR
VERSION:2.0
PRODID:-//ChurchDev//Events//EN
CALSCALE:GREGORIAN
METHOD:PUBLISH
BEGIN:VEVENT
UID:3143-20260411@www.rockyriverassociation.org
SUMMARY:SC Baptist Congress of Christian Education Youth/Youth Worker&#8217\;s Workshop
DTSTART:20260411T120000Z
DTEND:20260411T130000Z
DESCRIPTION:The South Carolina Congress of Christian Education will sponsor its annual Youth/Youth Worker&#8217\;s Workshop on Saturday\, April 11\, 2026\, at 8:00 a.m. at Morris College in Sumter\, South Carolina.\\nThe Youth &amp\; Youth Workers Workshop is designed to help Youth Workers remain innovative in retaining youth in the local church.\\nRegistration information will be forthcoming.\\n\\nhttps://www.rockyriverassociation.org/events/sc-baptist-congress-of-christian-education-youth-youth-workers-workshop/
LOCATION:Post Office Box 1454\, Anderson\, SC 29622
URL:https://www.rockyriverassociation.org/events/sc-baptist-congress-of-christian-education-youth-youth-workers-workshop/
DTSTAMP:20260419T202735Z
END:VEVENT
END:VCALENDAR
