BEGIN:VCALENDAR
VERSION:2.0
PRODID:-//ChurchDev//Events//EN
CALSCALE:GREGORIAN
METHOD:PUBLISH
BEGIN:VEVENT
UID:3276-20260404@www.rockyriverassociation.org
SUMMARY:Legacy of Love &#038\; Leadership Banquet
DTSTART:20260404T180000Z
DTEND:20260404T190000Z
DESCRIPTION:Legends don’t fade—they are celebrated\, honored\, and remembered forever.\\nNew Holly Light Missionary Baptist Church proudly invites you to an evening destined for history—the Legacy of Love &amp\; Leadership Banquet\, honoring the visionary ministry\, enduring faith\, and transformational leadership of Dr. Curtis Hill\, and the incomparable strength\, elegance\, and devotion of Lady Louise Hill\\nFor years\, Dr. Hill’s voice shaped a people and his leadership built a legacy\, while Lady Hill st...\\n\\nhttps://www.rockyriverassociation.org/events/legacy-of-love-leadership-banquet/
LOCATION:230 Madren Center Drive\, Clemson\, South Carolina 29631
URL:https://www.rockyriverassociation.org/events/legacy-of-love-leadership-banquet/
DTSTAMP:20260419T203242Z
END:VEVENT
END:VCALENDAR
